BEGIN:VCALENDAR
VERSION:2.0
PRODID:-//Flathead Reservation Water Management Board - ECPv6.15.20//NONSGML v1.0//EN
CALSCALE:GREGORIAN
METHOD:PUBLISH
X-WR-CALNAME:Flathead Reservation Water Management Board
X-ORIGINAL-URL:https://www.frwmb.gov
X-WR-CALDESC:Events for Flathead Reservation Water Management Board
REFRESH-INTERVAL;VALUE=DURATION:PT1H
X-Robots-Tag:noindex
X-PUBLISHED-TTL:PT1H
BEGIN:VTIMEZONE
TZID:UTC
BEGIN:STANDARD
TZOFFSETFROM:+0000
TZOFFSETTO:+0000
TZNAME:UTC
DTSTART:20230101T000000
END:STANDARD
END:VTIMEZONE
BEGIN:VEVENT
DTSTART;TZID=UTC:20250327T130000
DTEND;TZID=UTC:20250327T170000
DTSTAMP:20260423T173225
CREATED:20250318T180138Z
LAST-MODIFIED:20250403T221410Z
UID:1660-1743080400-1743094800@www.frwmb.gov
SUMMARY:2025-03-27 FRWMB Meeting
DESCRIPTION:﻿\n2025-03-27 Meeting Agenda  \n2025-03-05 Meeting Minutes \nBoard Comp February 2025 (Draft) \nRedtail-Nonprofit-Engagement Letter-FRWMB-2025-v2 (signed) \nRecords and Inspection Requests WPPs (Draft V5) \nProperty Disposition Request Form (Draft) \nOE Personnel Policies \nOE Personnel Policies (10.2 infectious disease) \n 
URL:https://www.frwmb.gov/event/2025-03-27-frwmb-meeting/
CATEGORIES:Board Meetings
END:VEVENT
BEGIN:VEVENT
DTSTART;TZID=UTC:20250325T130000
DTEND;TZID=UTC:20250325T170000
DTSTAMP:20260423T173225
CREATED:20250318T175909Z
LAST-MODIFIED:20250318T175909Z
UID:1659-1742907600-1742922000@www.frwmb.gov
SUMMARY:Closed Board Conference
DESCRIPTION:Executive Session closed to the public.
URL:https://www.frwmb.gov/event/closed-board-conference/
CATEGORIES:Appeals, Hearings, Petitions
END:VEVENT
BEGIN:VEVENT
DTSTART;TZID=UTC:20250305T130000
DTEND;TZID=UTC:20250305T170000
DTSTAMP:20260423T173225
CREATED:20250213T163124Z
LAST-MODIFIED:20250306T233829Z
UID:1630-1741179600-1741194000@www.frwmb.gov
SUMMARY:2025-03-05 FRWMB Meeting
DESCRIPTION:﻿ \n2025-03-05 Meeting Agenda \n2025-02-12 Meeting Minutes \nFRWMB Budget vs. Actuals FY25 1st QTR \nD & O Quote \n2025-03_ 180-day Custody Letter_Final Draft \n2025-03 Suspended Custody Letter_Final Draft \nAppeal Notice DA 25-0100 \nFRWMB Vehicle Storage Agreement \n2025-02-27 PD_Water Resource Specialist – Berens \n2025-02-27 PD_Water Resource Specialist – Fenner \nFRWMB signed lease \nFRWMB Lease Extension 2025
URL:https://www.frwmb.gov/event/2025-03-05-frwmb-meeting/
CATEGORIES:Board Meetings
END:VEVENT
BEGIN:VEVENT
DTSTART;TZID=UTC:20250212T130000
DTEND;TZID=UTC:20250212T170000
DTSTAMP:20260423T173225
CREATED:20250204T233117Z
LAST-MODIFIED:20250213T194020Z
UID:1613-1739365200-1739379600@www.frwmb.gov
SUMMARY:2025-02-12 FRWMB Meeting
DESCRIPTION:2025-02-12 Meeting Agenda DRAFT \n2025-01-29 Meeting Minutes DRAFT \nD&O Quote \nBoard Comp January 2025 (Draft) \nCommittee Board Comp. January 2025 (Draft) \n2025-02-10 Existing Use Registrations MOU OE_Board (Final) \nFRWMB Lease Extension 2025  \nFRWMB-OE Vehicle Use Policy (Updated 2-10)
URL:https://www.frwmb.gov/event/2025-02-12-frwmb-meeting/
CATEGORIES:Board Meetings
END:VEVENT
BEGIN:VEVENT
DTSTART;TZID=UTC:20250129T130000
DTEND;TZID=UTC:20250129T170000
DTSTAMP:20260423T173225
CREATED:20250116T160828Z
LAST-MODIFIED:20250206T180855Z
UID:1596-1738155600-1738170000@www.frwmb.gov
SUMMARY:2025-01-29 FRWMB Meeting
DESCRIPTION:﻿ \n2025-01-29 Meeting Agenda – FINAL \n2025-01-15 Meeting Minutes \n2025-01-22 Meeting Minutes \nBudget Submission Fiscal Year 2025 (V1) \nFRWMB Budget Projection 2025 \nAllowance completion form (DRAFT) \nMOU – Existing Use Registrations (V4) \nFRWMB-OE Vehicle Use Policy (Updated 1-13) \nOE Personnel Policies (HCF updated version)V2
URL:https://www.frwmb.gov/event/2025-01-29-frwmb-meeting/
CATEGORIES:Board Meetings
END:VEVENT
BEGIN:VEVENT
DTSTART;TZID=UTC:20250122T130000
DTEND;TZID=UTC:20250122T170000
DTSTAMP:20260423T173225
CREATED:20250116T160408Z
LAST-MODIFIED:20250204T235751Z
UID:1595-1737550800-1737565200@www.frwmb.gov
SUMMARY:2025-01-22 FRWMB Meeting
DESCRIPTION:2025-01-22 Meeting Agenda PDF
URL:https://www.frwmb.gov/event/2025-01-22-frwmb-meeting/
CATEGORIES:Board Meetings
END:VEVENT
BEGIN:VEVENT
DTSTART;TZID=UTC:20250115T130000
DTEND;TZID=UTC:20250115T170000
DTSTAMP:20260423T173225
CREATED:20241230T234551Z
LAST-MODIFIED:20250116T185345Z
UID:1575-1736946000-1736960400@www.frwmb.gov
SUMMARY:2025-01-15 FRWMB Meeting
DESCRIPTION:2025-01-15 Meeting Agenda (V2) \n2024-12-16 Meeting Minutes \nBoard Comp December 2024 (Draft) \nCommittee Board Comp. December 2024 (Draft) \nMOU – Existing Use Registrations (V3) \nFRWMB-OE Vehicle Use Policy (Updated 1-13) \nOE Personnel Policies (HCF updated version)V2 \n2025 Flathead Reservation Water comparison \nFRWMB-EquipmentList (2025-01-15) \nBudget Submission 2024 \nFRWMB-EquipmentList (2025-01-15) \nFRWMB-Budget Narrative-final \nFRWMB-Letter-01.13.25 (signed) \nFRWMB-Budget vs. Actual v3-1
URL:https://www.frwmb.gov/event/2025-01-15-frwmb-meeting/
CATEGORIES:Board Meetings
END:VEVENT
BEGIN:VEVENT
DTSTART;TZID=UTC:20250109T130000
DTEND;TZID=UTC:20250109T170000
DTSTAMP:20260423T173225
CREATED:20241118T205901Z
LAST-MODIFIED:20241211T233850Z
UID:1517-1736427600-1736442000@www.frwmb.gov
SUMMARY:Water Use Complaint 2024-FOR-100
DESCRIPTION:This complaint was filed by Duane Smith. The hearing will be held in-person at the Office of the Water Engineer\, 400 Main St. SW. Ronan\, MT 59864. \n2024-FOR-100 \n24-12-11 Scheduling Order – Complaint No. 2024-FOR-100 \n 
URL:https://www.frwmb.gov/event/water-use-complaint-2024-for-100/
CATEGORIES:Office of the Engineer Hearings, Petitions, and Notices
END:VEVENT
BEGIN:VEVENT
DTSTART;TZID=UTC:20241216T130000
DTEND;TZID=UTC:20241216T170000
DTSTAMP:20260423T173225
CREATED:20241211T161712Z
LAST-MODIFIED:20241216T234635Z
UID:1551-1734354000-1734368400@www.frwmb.gov
SUMMARY:2024-12-16 FRWMB Meeting
DESCRIPTION:2024-12-16 Meeting Agenda (V2) (003) \nBoard Commitee Comp. \n2024-11-12 OE Personnel Policies \n2024-11-12 Telework & Remote Work (Draft) \n2024-12 Employee Physical Fitness Agreement – Template \n2024-12-10 Meeting Minutes \nBoard Comp November 2024 (Draft) \nCSTK Employee Physical Fitness Form \nFRWMB-OE Vehicle Use Policy \nRedtail-Nonprofit-Engagement Letter-FRWMB-2025
URL:https://www.frwmb.gov/event/2024-12-16-frwmb-meeting/
CATEGORIES:Board Meetings
END:VEVENT
BEGIN:VEVENT
DTSTART;TZID=UTC:20241210T130000
DTEND;TZID=UTC:20241210T170000
DTSTAMP:20260423T173225
CREATED:20241114T140605Z
LAST-MODIFIED:20241212T174623Z
UID:1515-1733835600-1733850000@www.frwmb.gov
SUMMARY:2024-12-10 FRWMB Meeting
DESCRIPTION:2024-12-10 Meeting Agenda (V1) \n06.30.23 BvsA \n06.30.24 BvsA \n08.31.22 BvsA \n09.30.24 BvsA \n09.30.25 Budget \n2024-11-04 Posted FRWMB WPP \n2024-11-12 OE Personnel Policies \n2024-11-12 Telework & Remote Work (Draft) \n2024-11-13 Meeting Minutes \n2024-12 Employee Physical Fitness Agreement – Template \n2024-12-10 FRWMB Employement Contract – Butterfield \n2024-12-10 FRWMB Employement Contract – Frakes \n2024-12-10 FRWMB Employement Contract – Ollinger \n2024-12-10 FRWMB Employement Contract – Schubert \nCSTK Employee Physical Fitness Form \nFRWMB-OE Vehicle Use Policy \nWPP Public Comment Summary 2024-12-04
URL:https://www.frwmb.gov/event/2024-12-10-frwmb-meeting/
CATEGORIES:Board Meetings
END:VEVENT
BEGIN:VEVENT
DTSTART;TZID=UTC:20241113T130000
DTEND;TZID=UTC:20241113T170000
DTSTAMP:20260423T173225
CREATED:20241021T215427Z
LAST-MODIFIED:20241114T142803Z
UID:1475-1731502800-1731517200@www.frwmb.gov
SUMMARY:2024-11-13 FRWMB Meeting
DESCRIPTION:2024-11-13 Meeting Agenda (V3) \n2024-10-30 Meeting Minutes \n2024-11-12 OE Personnel policies \nBoard Comp October 2024 Draft \nBoard Jurisdiction Memorandum (2022-10-17) \nCommittee Board Comp. October 2024 (Draft) \nCommittee Board Comp. September 2024 (Draft) \nFRWMB Lease Extension 2025 No tracked changes \nFRWMB-Budget-FY25 v6 (Draft) \nFRWMB-Budget-FY25 v6-2(Draft) \nIRS response to inquiry 10-18-24 \nQuickBooks Incomplete Verification Case; Respon…
URL:https://www.frwmb.gov/event/2024-11-13-frwmb-meeting/
CATEGORIES:Board Meetings
END:VEVENT
BEGIN:VEVENT
DTSTART;TZID=UTC:20241030T130000
DTEND;TZID=UTC:20241030T170000
DTSTAMP:20260423T173225
CREATED:20241021T215118Z
LAST-MODIFIED:20241031T164802Z
UID:1474-1730293200-1730307600@www.frwmb.gov
SUMMARY:2024-10-30 FRWMB Meeting
DESCRIPTION:2024-10-30 Meeting Agenda (V5) \n2024-10-09 Meeting Minutes \nCopy of FRWMB-Budget-FY25 v4 (Draft) \nIRS response to inquiry 10-18-24 \n2024-10-30- OE Personnel Policies (board edits 8.21.24 & OE updates 9.30) \nBoard Comp. 09-01 to 9-31-2024 (DRAFT) \nCommittee Board Comp. July 2024 (DRAFT) \nCommittee Board Comp. August 2024 (Draft) \nCommittee Board Comp. September 2024 (Draft) \n2024-10-30 FRWMB Active WPPs (Draft Updates) \nOE JD_Water Resources Specialist (2024-10-28) \n2024-10-30 OE Hydrologist II Promotion Plan – Frakes \nOE JD_Hydrologist (2023-08-30)
URL:https://www.frwmb.gov/event/2024-10-30-frwmb-meeting/
CATEGORIES:Board Meetings
END:VEVENT
BEGIN:VEVENT
DTSTART;TZID=UTC:20241009T130000
DTEND;TZID=UTC:20241009T170000
DTSTAMP:20260423T173225
CREATED:20240917T181916Z
LAST-MODIFIED:20241010T155645Z
UID:1435-1728478800-1728493200@www.frwmb.gov
SUMMARY:2024-10-09 FRWMB Meeting
DESCRIPTION:2024-10-09 Meeting Agenda (DRAFT 3) \n660F-FSCW 2024.10.07 (DRAFT) \n2024-09-05 FRWMB WPP FSCW (DRAFT for Public Comment) \n2024-09-16 FRWMB WPP Stock Allowances (N&C) \n2024-09-23 Meeting Minutes \n2024-09-30 OE Personnel policies (board edits 8.21.24 & OE updates 9.30) \nFRWMB Lease Extension 2025 (2) (Draft) \nFRWMB signed lease (2022) \nFSCW Public Comment Summary \nWP&P Stock Public Comment Summary \nCopy of Board Comp. 09-01 to 9-31-2024 (DRAFT)
URL:https://www.frwmb.gov/event/2024-10-09-frwmb-meeting/
CATEGORIES:Board Meetings
END:VEVENT
BEGIN:VEVENT
DTSTART;TZID=UTC:20240923T140000
DTEND;TZID=UTC:20240923T170000
DTSTAMP:20260423T173225
CREATED:20240917T181643Z
LAST-MODIFIED:20240924T163623Z
UID:1434-1727100000-1727110800@www.frwmb.gov
SUMMARY:2024-09-23 FRWMB Meeting
DESCRIPTION:2024-09-23 Meeting Agenda \n2024-09-12 Meeting Minutes (Draft) \nFRWMB-OE Org Chart Revised 2024 \nProgressive insurance Quote (Redacted) \nOE Apparel VistaPrint Quote \nOE Non-Apparel VistaPrint Quote \n State farm insurance Quote with under 25YO  \nState farm insurance Quote without under 25 YO SF \nResolution #1 – Fiscal Policy (V2 HCF Clean) \n Truck topper quote 1130_001 \nflathead-reservation-water-management-board-frwmb-3084-quote
URL:https://www.frwmb.gov/event/2024-09-23-frwmb-meeting/
CATEGORIES:Board Meetings
END:VEVENT
BEGIN:VEVENT
DTSTART;TZID=UTC:20240912T133000
DTEND;TZID=UTC:20240912T173000
DTSTAMP:20260423T173225
CREATED:20240905T172447Z
LAST-MODIFIED:20240916T190753Z
UID:1411-1726147800-1726162200@www.frwmb.gov
SUMMARY:2024-09-12 FRWMB Meeting
DESCRIPTION:2024-09-12 Meeting Agenda (Draft) \nArticle V Public Comment 2024-09-10 \n607F Deadline Extension (DRAFT) (2) \n2024-08-28 FRWMB WPP Stock Allowances (DRAFT to notice) \n2024-09-04 Meeting Minutes (Draft) \nApplication Report Pivot Tables \nBoard Comp. 07-01 to 7-31-2024 (DRAFT) \nBoard Comp. 08-01 to 8-31-2024 (DRAFT) \nResolution #1 – Fiscal Policy (HCF edits)
URL:https://www.frwmb.gov/event/2024-09-12-frwmb-board-meeting/
CATEGORIES:Board Meetings
END:VEVENT
BEGIN:VEVENT
DTSTART;TZID=UTC:20240904T130000
DTEND;TZID=UTC:20240904T170000
DTSTAMP:20260423T173225
CREATED:20240822T172704Z
LAST-MODIFIED:20240905T172749Z
UID:1390-1725454800-1725469200@www.frwmb.gov
SUMMARY:2024-09-04 FRWMB Meeting
DESCRIPTION:2024-09-04 Meeting Agenda (Draft) \n2024-07-25 FRWMB WPP OE Hearings (Draft to adopt) \n2024-08-01 FRWMB WPP FSCW (DRAFT to notice) \n2024-08-20 FRWMB WPP Domestic Allowances (DRAFT to adopt w public comments) \n2024-08-21 Meeting Minutes (DRAFT) \n2024-08-28 FRWMB WPP Stock Allowances (DRAFT to notice) \n2024-08-29 Meeting Minutes (DRAFT) \nResolution #1 – Fiscal Policy (HCF edits)
URL:https://www.frwmb.gov/event/2024-09-04-frwmb-meeting/
CATEGORIES:Board Meetings
END:VEVENT
BEGIN:VEVENT
DTSTART;TZID=UTC:20240829T123000
DTEND;TZID=UTC:20240829T133000
DTSTAMP:20260423T173225
CREATED:20240826T213031Z
LAST-MODIFIED:20240827T203627Z
UID:1393-1724934600-1724938200@www.frwmb.gov
SUMMARY:2024-08-29 FRWMB Meeting (ONLINE ONLY)
DESCRIPTION:2024-08-29 Meeting Agenda (DRAFT) \nRedtail-Nonprofit-Engagement Letter-FRWMB-Updatev3 (HCF edits V2)
URL:https://www.frwmb.gov/event/2024-08-29-frwmb-meeting-online-only/
CATEGORIES:Board Meetings
END:VEVENT
BEGIN:VEVENT
DTSTART;TZID=UTC:20240821T130000
DTEND;TZID=UTC:20240821T170000
DTSTAMP:20260423T173225
CREATED:20240815T201153Z
LAST-MODIFIED:20240822T195824Z
UID:1383-1724245200-1724259600@www.frwmb.gov
SUMMARY:2024-08-21 FRWMB Meeting
DESCRIPTION:2024-08-21 Meeting Agenda (DRAFT) \n2024-08-02 OE Personnel policies (NC) \n2024-08-14 Meeting Minutes (DRAFT) \nResolution #1 – Fiscal Policy (HCF edits)
URL:https://www.frwmb.gov/event/2024-08-21-frwmb-board-meeting/
CATEGORIES:Board Meetings
END:VEVENT
BEGIN:VEVENT
DTSTART;TZID=UTC:20240814T130000
DTEND;TZID=UTC:20240814T170000
DTSTAMP:20260423T173225
CREATED:20240812T191037Z
LAST-MODIFIED:20240815T195002Z
UID:1379-1723640400-1723654800@www.frwmb.gov
SUMMARY:2024-08-14 FRWMB Meeting
DESCRIPTION:2024-08-14 Meeting Agenda (DRAFT) \n2024-08-02 OE Personnel policies (NC) \n2024-08-08 Meeting Minutes \n2024-08-12 FRWMB Bylaws (DRAFT AMENDMENT) – Board Commented \n2024-08-12 Res #frwmb 01 – Fiscal (DRAFT AmendMENT)
URL:https://www.frwmb.gov/event/2024-08-14-frwmn-meeting/
CATEGORIES:Board Meetings
END:VEVENT
BEGIN:VEVENT
DTSTART;TZID=UTC:20240808T130000
DTEND;TZID=UTC:20240808T170000
DTSTAMP:20260423T173225
CREATED:20240805T223050Z
LAST-MODIFIED:20240813T213217Z
UID:1352-1723122000-1723136400@www.frwmb.gov
SUMMARY:2024-08-08 FRWMB Meeting
DESCRIPTION:2024-08-08 Meeting Agenda (Draft 2) \n2024-07-08 Parcel Size White Paper \n2024-08-01 WPP with (Domestic Allowance comments incorporated) \n2024-07-08 Summary of WP&P Public Comments \n2024-08-01 FRWMB WPP (DRAFT FSCW)(NC) \n2024-07-24 Meeting Minutes (Draft) \n2024-08-01 FRWMB Bylaws (DRAFT AMENDMENT)(NC) \n2024-08-01 Resolution #4 (DRAFT AMENDMENT) \n2024-08-08 FRWMB Building RFP Posting \n2024-06-14 FRWMB Building RFP (2024-07-30) \n2024-08-02 OE Personnel policies (NC)
URL:https://www.frwmb.gov/event/2024-08-08-frwmb-meeting/
CATEGORIES:Board Meetings
END:VEVENT
BEGIN:VEVENT
DTSTART;TZID=UTC:20240724T130000
DTEND;TZID=UTC:20240724T170000
DTSTAMP:20260423T173225
CREATED:20240710T225813Z
LAST-MODIFIED:20240725T191828Z
UID:1330-1721826000-1721840400@www.frwmb.gov
SUMMARY:2024-07-24 FRWMB Meeting
DESCRIPTION:2024-07-24 Meeting Agenda (Draft) \n2024-06-25 FRWMB WPP (HCF edits to FSCW) \nFRWMB Public Comment – Parcel Size Impact Analysis \n2024-07-10 Meeting Minutes (Draft) \nWPP with comments incorporated
URL:https://www.frwmb.gov/event/2024-07-24-frwmb-meeting/
CATEGORIES:Board Meetings
END:VEVENT
BEGIN:VEVENT
DTSTART;TZID=UTC:20240710T130000
DTEND;TZID=UTC:20240710T170000
DTSTAMP:20260423T173225
CREATED:20240702T000148Z
LAST-MODIFIED:20240725T145634Z
UID:1307-1720616400-1720630800@www.frwmb.gov
SUMMARY:2024-07-10 FRWMB Meeting
DESCRIPTION:2024-07-10 Meeting Agenda (Draft) \n2024-06-18 Meeting Minutes (DRAFT) \n2024-06-25 Meeting Minutes (DRAFT) \n2024-7-8 Summary of WP&P Public Comments \n2024-06-25 FRWMB WPP (BOARD Updates) \n6DDF Part – A Combined 7.9.24 (DRAFT) \n611F Objection (DRAFT) \nBoard Compensation 2024-06-01 to 6-31 (DRAFT)
URL:https://www.frwmb.gov/event/2024-07-10-frwmb-meeting/
CATEGORIES:Board Meetings
END:VEVENT
BEGIN:VEVENT
DTSTART;TZID=UTC:20240625T130000
DTEND;TZID=UTC:20240625T170000
DTSTAMP:20260423T173225
CREATED:20240620T192038Z
LAST-MODIFIED:20240627T152518Z
UID:1296-1719320400-1719334800@www.frwmb.gov
SUMMARY:2024-06-25 FRWMB Meeting
DESCRIPTION:﻿ \n2024-06-25 Meeting Agenda (Draft) \n609F INFORMAL Complaint Form (DRAFT) \n610F – FORMAL Water Use Complaint (DRAFT) V3 \n611F Objection (DRAFT) \n2024-01-16 Complaint Process for WP&P (DRAFT) \n2024-06-18 FRWMB WPP (FSCW Updates)
URL:https://www.frwmb.gov/event/2024-06-25-frwmb-meeting/
CATEGORIES:Board Meetings
END:VEVENT
BEGIN:VEVENT
DTSTART;TZID=UTC:20240618T130000
DTEND;TZID=UTC:20240618T170000
DTSTAMP:20260423T173225
CREATED:20240603T150346Z
LAST-MODIFIED:20240620T204602Z
UID:1257-1718715600-1718730000@www.frwmb.gov
SUMMARY:2024-06-18 FRWMB Meeting
DESCRIPTION:﻿ \n2024-06-18 Meeting Agenda (Draft) \n2024-05-01 Meeting Minutes \n2024-05-28 Meeting Minutes \nBoard Compensation 2024-04-24 to 05-31 (DRAFT) \n2024-06-14 FRWMB Building RFP (DRAFT) \n2024-06-18 Priorities \nEd Meece Response \nApplication Reports (through June 12) \nOE Phone Contract Update (2024-06-10) \nMAY EXPENSE REPORT 2024 \n2024-05-23 FRWMB WPP (FSCW Updates) \n6DDF Part – A 6.17.24 (DRAFT) \n6DWF – Additional Well \n623F Water Measurement Device Review Request
URL:https://www.frwmb.gov/event/2024-06-18-frwmb-meeting/
CATEGORIES:Board Meetings
END:VEVENT
BEGIN:VEVENT
DTSTART;TZID=UTC:20240528T130000
DTEND;TZID=UTC:20240528T170000
DTSTAMP:20260423T173225
CREATED:20240515T174831Z
LAST-MODIFIED:20240603T145918Z
UID:1235-1716901200-1716915600@www.frwmb.gov
SUMMARY:2024-05-28 FRWMB Meeting
DESCRIPTION:2024-05-28 Meeting Agenda (DRAFT) \n2024-05-23 FRWMB WPP (FSCW Updates) \nFRWMB Response to City of Polson (V2) \nLease Extension 2025 (near final) \n2024-05-01 Meeting Minutes (DRAFT)
URL:https://www.frwmb.gov/event/2024-05-22-frwmb-meeting/
CATEGORIES:Board Meetings
END:VEVENT
BEGIN:VEVENT
DTSTART;TZID=UTC:20240501T130000
DTEND;TZID=UTC:20240501T170000
DTSTAMP:20260423T173225
CREATED:20240425T224200Z
LAST-MODIFIED:20240502T201700Z
UID:1220-1714568400-1714582800@www.frwmb.gov
SUMMARY:2024-05-01 FRWMB Meeting
DESCRIPTION:2024-05-01 Meeting Agenda (DRAFT 2) \n2024-04-29 FRWMB WPP (DRAFT) (OE edits)NC \n2023-4-4 Development Domestic Allowance Discussion \n2024-04-23 Meeting Minutes (DRAFT) \nClimate Check Forms \nDomestic Allowance Presentation (OE) \nPublic Comment (Pearce)
URL:https://www.frwmb.gov/event/2024-05-01-frwb-meeting/
CATEGORIES:Board Meetings
END:VEVENT
BEGIN:VEVENT
DTSTART;TZID=UTC:20240423T133000
DTEND;TZID=UTC:20240423T173000
DTSTAMP:20260423T173225
CREATED:20240419T172944Z
LAST-MODIFIED:20240604T151835Z
UID:1213-1713879000-1713893400@www.frwmb.gov
SUMMARY:2024-04-23 FRWMB Meeting
DESCRIPTION:2024-04-23 Meeting Agenda (DRAFT)(2) \n2024-04-15 RegistrationQuantificationAnalysis \n2024-04-19 FRWMB WPP (DRAFT) \nBoard Compensation through 2024-04-23 (DRAFT) \nDNRC PreReview Instructions (Working Draft) \nFRWMB Resolution #06 \nFlathead Lake Stewardship 4.10-RFM
URL:https://www.frwmb.gov/event/2024-04-23-frwmb-meeting/
CATEGORIES:Board Meetings
END:VEVENT
BEGIN:VEVENT
DTSTART;TZID=UTC:20240410T130000
DTEND;TZID=UTC:20240410T170000
DTSTAMP:20260423T173225
CREATED:20240313T181740Z
LAST-MODIFIED:20240418T152257Z
UID:1185-1712754000-1712768400@www.frwmb.gov
SUMMARY:2024-04-10 FRWMB Meeting
DESCRIPTION:2024-04-10 Meeting Agenda (DRAFT) \n2023-02-09-FRWMB-Legal-Communications-Policy-2023-12 \nDomestic Allowances White Paper (V2) \nWater Court Order 76L and 76LJ stays \n2024-04-09 FRWMB WPP (DRAFT) \n2024-03-12 Meeting Minutes (DRAFT)
URL:https://www.frwmb.gov/event/2024-04-09-frwmb-meeting/
CATEGORIES:Board Meetings
END:VEVENT
BEGIN:VEVENT
DTSTART;TZID=UTC:20240312T130000
DTEND;TZID=UTC:20240312T170000
DTSTAMP:20260423T173225
CREATED:20240308T210637Z
LAST-MODIFIED:20240325T143454Z
UID:1177-1710248400-1710262800@www.frwmb.gov
SUMMARY:2024-03-12 FRWMB Meeting
DESCRIPTION:2024-03-12 Meeting Agenda (DRAFT) \n2024-02-06 Meeting Minutes (DRAFT) \nBoard Compensation through 2024-03-12 \n2024-03-12 FRWMB WPP (DRAFT)(NC)
URL:https://www.frwmb.gov/event/2024-03-12-frwmb-meeting/
CATEGORIES:Board Meetings
END:VEVENT
BEGIN:VEVENT
DTSTART;TZID=UTC:20240220T130000
DTEND;TZID=UTC:20240220T170000
DTSTAMP:20260423T173225
CREATED:20240215T191318Z
LAST-MODIFIED:20240215T191318Z
UID:1167-1708434000-1708448400@www.frwmb.gov
SUMMARY:2024-02-20 FRWMB Meeting [Closed Executive Meeting]
DESCRIPTION:2024-02-20 Meeting Agenda (DRAFT)
URL:https://www.frwmb.gov/event/2024-02-20-frwmb-meeting-closed-executive-meeting/
CATEGORIES:Board Meetings
END:VEVENT
END:VCALENDAR