BEGIN:VCALENDAR
VERSION:2.0
PRODID:-//Flathead Reservation Water Management Board - ECPv6.15.20//NONSGML v1.0//EN
CALSCALE:GREGORIAN
METHOD:PUBLISH
X-ORIGINAL-URL:https://www.frwmb.gov
X-WR-CALDESC:Events for Flathead Reservation Water Management Board
REFRESH-INTERVAL;VALUE=DURATION:PT1H
X-Robots-Tag:noindex
X-PUBLISHED-TTL:PT1H
BEGIN:VTIMEZONE
TZID:UTC
BEGIN:STANDARD
TZOFFSETFROM:+0000
TZOFFSETTO:+0000
TZNAME:UTC
DTSTART:20250101T000000
END:STANDARD
END:VTIMEZONE
BEGIN:VEVENT
DTSTART;TZID=UTC:20260303T130000
DTEND;TZID=UTC:20260303T160000
DTSTAMP:20260423T111058
CREATED:20260225T175924Z
LAST-MODIFIED:20260422T190840Z
UID:2025-1772542800-1772553600@www.frwmb.gov
SUMMARY:2026/03/03 FRWMB Meeting
DESCRIPTION:(1) 03-03-2026 Meeting Agenda \n(2) 2026-01-13 Meeting Minutes \n(3) Board Comp January 2026 \n(4) Committee Board Comp. January 2026 \n(5) FY2026 FRWMB Funding Agreement – CSKT \n(6) FY2026 FRWMB Funding Agreement – DNRC \n(7) WP&P Master (2.17.26 Revisions)
URL:https://www.frwmb.gov/event/2026-03-03-frwmb-meeting/
CATEGORIES:Board Meetings
END:VEVENT
BEGIN:VEVENT
DTSTART;TZID=UTC:20260331T130000
DTEND;TZID=UTC:20260331T150000
DTSTAMP:20260423T111058
CREATED:20260325T143814Z
LAST-MODIFIED:20260422T192802Z
UID:2045-1774962000-1774969200@www.frwmb.gov
SUMMARY:2026-03-31 FRWMB Meeting
DESCRIPTION:(1) 03-31-2026 Meeting Agenda \n(2) 03-03-2026 Meeting Minutes \n(3) Board Comp February 2026 \n(4) Committee Board Comp. February 2026 \n(5) WP&Ps N&C 3-13-2026
URL:https://www.frwmb.gov/event/2026-03-31-frwmb-meeting/
CATEGORIES:Board Meetings
END:VEVENT
BEGIN:VEVENT
DTSTART;TZID=UTC:20260401T130000
DTEND;TZID=UTC:20260401T160000
DTSTAMP:20260423T111058
CREATED:20260330T155319Z
LAST-MODIFIED:20260330T155635Z
UID:2055-1775048400-1775059200@www.frwmb.gov
SUMMARY:TEST - 2026-04-01 FRWMB Meeting
DESCRIPTION:(4) Committee Board Comp. February 2026 \n(5) WP&Ps N&C 3-13-2026 \n(3) Board Comp February 2026 \n(2) 03-03-2026 Meeting Minutes
URL:https://www.frwmb.gov/event/test-2026-04-01-frwmb-meeting/
CATEGORIES:Board Meetings
END:VEVENT
BEGIN:VEVENT
DTSTART;TZID=UTC:20260421T130000
DTEND;TZID=UTC:20260421T160000
DTSTAMP:20260423T111058
CREATED:20260414T153017Z
LAST-MODIFIED:20260421T164133Z
UID:2071-1776776400-1776787200@www.frwmb.gov
SUMMARY:2026-04-21 FRWMB Meeting
DESCRIPTION:(1) 04-21-2026 Meeting Agenda \n(2) 03-31-2026 Meeting Minutes \n(3) Board Comp March 2026 \n(4) Committee Board Comp. March 2026 \n(5) 2026 1st QTR Budget Report \n(6) Window Installation Quote
URL:https://www.frwmb.gov/event/2026-04-21-frwmb-meeting/
CATEGORIES:Board Meetings
END:VEVENT
END:VCALENDAR