BEGIN:VCALENDAR
VERSION:2.0
PRODID:-//Flathead Reservation Water Management Board - ECPv6.15.20//NONSGML v1.0//EN
CALSCALE:GREGORIAN
METHOD:PUBLISH
X-ORIGINAL-URL:https://www.frwmb.gov
X-WR-CALDESC:Events for Flathead Reservation Water Management Board
REFRESH-INTERVAL;VALUE=DURATION:PT1H
X-Robots-Tag:noindex
X-PUBLISHED-TTL:PT1H
BEGIN:VTIMEZONE
TZID:UTC
BEGIN:STANDARD
TZOFFSETFROM:+0000
TZOFFSETTO:+0000
TZNAME:UTC
DTSTART:20250101T000000
END:STANDARD
END:VTIMEZONE
BEGIN:VEVENT
DTSTART;TZID=UTC:20260401T130000
DTEND;TZID=UTC:20260401T160000
DTSTAMP:20260423T091148
CREATED:20260330T155319Z
LAST-MODIFIED:20260330T155635Z
UID:2055-1775048400-1775059200@www.frwmb.gov
SUMMARY:TEST - 2026-04-01 FRWMB Meeting
DESCRIPTION:(4) Committee Board Comp. February 2026 \n(5) WP&Ps N&C 3-13-2026 \n(3) Board Comp February 2026 \n(2) 03-03-2026 Meeting Minutes
URL:https://www.frwmb.gov/event/test-2026-04-01-frwmb-meeting/
CATEGORIES:Board Meetings
END:VEVENT
END:VCALENDAR